Workbook

Sheet Instructie
B2: Rekentool Voederhagen
B3: versie 1.0, 24 maart 2026
B4: Met deze rekentool kun je als boer of initiatiefnemer de kosten en baten van de aanplant en het beheer van voederhagen inzichtelijk krijgen op bedrijfsniveau. De tool is ontwikkeld door Wij.land, in samenwerking met Stichting Grondverbond, als onderdeel van project 'Samenwerking in de korte keten voor landschappelijke meerwaarde', medegefinancierd door de Europese Unie en de Provincie Noord-Holland. Wij.land streeft er naar de rekentool regelmatig te actualiseren. Voor vragen en/of suggesties voor verbeteringen, neem contact op via contact@wij.land ovv Rekentool Voederhagen. Deze rekentool is gelicenseerd onder een Creative Commons Naamsvermelding-GelijkDelen 4.0 Internationaal-licentie."
B5: Zie licentie
B8: Leeswijzer: tabbladen | E8: legenda
B9: Instructie | C9: Algemene informatie en gebruikershandleiding | E9: In te vullen
B10: Samenvatting | C10: Bedrijfsinformatie en resultaat | E10: optioneel aan te passen
B11: Invoer | Kosten | C11: invoer tabel voor de kosten bij aanplant (eenmalig) en kosten voor beheer (jaarlijks) van de voederhagen. | E11: herstelwaarden in uitvouwbare kolommen
B12: Invoer | Baten | C12: invoer tabel voor de opbrengsten/vergoedingen bij aanplant (eenmalig) de directe én indirecte opbrengsten bij beheer (jaarlijks).
B13: tabel.uitgangspunten | C13: tabellen met uitgaanspunten waarmee de berekeningen worden gemaakt. | E13: wit = niet aanpasbaar
B15: Gebruikershandleiding
B16: 1) maak een kopie van dit bestand met de naam van de boer/het project in de titel. Er is ter illustratie een referentiesituatie/voorbeeld ingevuld, deze dient met de stappen hieronder overschreven te worden.
B17: --> Ga naar tabblad Invoer | Kosten
B18: 2) vul de algemene bedrijfsinformatie in de linker tabel van de tabblad Invoer | Kosten. Vul alleen de blauwe cellen.
B19: 3) Verwerk het plan voor de aanleg van de voederhagen in de tabel 'AANLEG' in Invoer | Kosten. Pas aan waar nodig.
B20: a) Vul het aantal meter per type heg in (enkele/dubbele rij), biologisch/niet-biologisch, en of de heg op termijn gevlochten wordt. Bepaal in overleg het uurloon dat hanteerd wordt voor eigen arbeid, of houd 30 euro/uur aan.
B21: b) Vul in welk kosten onderdeel zijn van de voorbereiding. Maak een keuze in de blauwe cellen onder voorbereiding.
B22: c) Vul in welk materiele kosten bij de aanleg komen kijken. Een deel van deze kosten zijn standaard bij elk bedrijf van toepassing, deze kunnen niet worden veranderd. de rest kan wel worden ingevuld, dit zijn de blauwe cellen.
B23: d) Vul in welk voor- en nawerk wordt gedaan bij de aanleg, en door wie.
B24: e) Vul in welke soort plantdag wordt ingezet en hoe eventuele lunch wordt verzorgd.
B25: f) Pas eventueel de verwachtte uitval van boompjes in het eerste jaar aan, standaard is 15%
B26: g) Zijn er specifieke dingen anders bij deze boer? Dan kunnen ook de licht blauwe cellen worden aangepast. Wanneer een fout wordt gemaakt, kan de formule/beginwaarde worden hersteld door te verwijzen (=CEL) naar de verstopte cel ernaast daarnaast (gele cel)
... B40: 10) Neem de samenvatting resultaten door. Voor meer detail zie de verschillende tabbladen

Sheet Samenvatting
A2: bedrijfsinformatie | F2: type | G2: aantal meter heg | H2: aantal bomen / 100 meter
A3: dat_int | B3: datum | C3: 46070 | F3: dubbele rij | G3: ='Invoer | Kosten'!C3 -> 500 | H3: ='Invoer | Kosten'!D3 -> 400
A4: nm_int | B4: adviseur | C4: wij wijlander | F4: enkele rij | G4: ='Invoer | Kosten'!C4 -> 0 | H4: ='Invoer | Kosten'!D4 -> 200
A5: nm_boer | B5: naam boer | C5: pietje paars | F5: andere type heg | G5: ='Invoer | Kosten'!C5 -> 0 | H5: ='Invoer | Kosten'!D5 -> 300
A6: ad_boer | B6: adres | C6: 100 mooilandstraat | F6: soorten samenstelling | G6: ='Invoer | Kosten'!C6 -> niet biologisch
A7: kvk_boer | B7: kvk nummer | C7: 123456 | F7: vlechten? | G7: ='Invoer | Kosten'!C7 -> vlechten
A8: bedrijfstype | B8: gangbaar / bio / bio-dynamisch | C8: biologisch
A9: grond | B9: grondsoort | C9: veen
A10: grasland_ha | B10: areaal grasland | C10: 70 | F10: kosten | J10: jaren na aanleg | K10: kosten | L10: opbrengsten | M10: indirecte opbrengsten | N10: balans | O10: balans incl indirecte opbrengsten | P10: breakeven line
A11: bouwland_ha | B11: areaal bouwland | C11: 10 | F11: kosten voor aanleg | G11: ='Invoer | Kosten'!M43 -> 14855 | H11: bij aanleg | J11: 0 | K11: =-G11 -> -14855 | L11: =G15 -> 11141.25 | N11: =SUM(K11:L11) -> -3713.75 | O11: =SUM(K11:M11) -> -3713.75 | P11: 0
A12: natuurgras_ha | B12: areaal natuurland | C12: 10 | F12: jaarlijkse kosten | G12: ='Invoer | Kosten'!M69 -> 1664.13 | H12: per jaar | J12: 1 | K12: =-$G$12 -> -1664.13 | L12: =$G$16 -> 3050 | N12: =SUM(K12:L12)+N11 -> -2327.88 | O12: =SUM(K12:M12)+O11 -> -2327.88 | P12: 0
B13: vee | D13: gve / dier | J13: 2 | K13: =-$G$12 -> -1664.13 | L13: =$G$16 -> 3050 | N13: =SUM(K13:L13)+N12 -> -942.01 | O13: =SUM(K13:M13)+O12 -> -942.01
A14: nkoe | B14: melkoeien | C14: 100 | D14: 1 | F14: opbrengsten | J14: 3 | K14: =-$G$12 -> -1664.13 | L14: =$G$16 -> 3050 | N14: =SUM(K14:L14)+N13 -> 443.86 | O14: =SUM(K14:M14)+O13 -> 443.86 | P14: 0.5
A15: nvlees | B15: volwassen vleesvee | C15: 0 | D15: 0.6 | F15: betalingen voor aanleg | G15: ='Invoer | Baten'!K5 -> 11141.25 | H15: bij aanleg | J15: 4 | K15: =-$G$12 -> -1664.13 | L15: =$G$16 -> 3050 | N15: =SUM(K15:L15)+N14 -> 1829.73 | O15: =SUM(K15:M15)+O14 -> 1829.73 | P15: 11.5
A16: nkalf | B16: kalveren | C16: 15 | D16: 0.23 | F16: directe jaarlijkse uitbetalingen | G16: ='Invoer | Baten'!K24 -> 3050 | H16: per jaar | J16: 5 | K16: =-$G$12 -> -1664.13 | L16: =$G$16 -> 3050 | N16: =SUM(K16:L16)+N15 -> 3215.6 | O16: =SUM(K16:M16)+O15 -> 3215.6
A17: npink | B17: pinken | C17: 15 | D17: 0.5 | F17: indirecte opbrengsten en besparingen (vanaf 5 jaar na aanplant) | G17: ='Invoer | Baten'!K39 -> 1384.321 | H17: per jaar | J17: 6 | K17: =-$G$12 -> -1664.13 | L17: =$G$16 -> 3050 | M17: =$G$17 -> 1384.321 | N17: =SUM(K17:L17)+N16 -> 4601.47 | O17: =SUM(K17:M17)+O16 -> 5985.7909
A18: nschaap | B18: schapen | C18: 0 | D18: 0.05 | J18: 7 | K18: =-$G$12 -> -1664.13 | L18: =$G$16 -> 3050 | M18: =$G$17 -> 1384.321 | N18: =SUM(K18:L18)+N17 -> 5987.34 | O18: =SUM(K18:M18)+O17 -> 8755.9819
A19: ngeit | B19: geiten | C19: 0 | D19: 0.05 | F19: rendement | J19: 8 | K19: =-$G$12 -> -1664.13 | L19: =$G$16 -> 3050 | M19: =$G$17 -> 1384.321 | N19: =SUM(K19:L19)+N18 -> 7373.21 | O19: =SUM(K19:M19)+O18 -> 11526.173
A20: npaarden | B20: paarden | C20: 0 | D20: 1 | F20: bij aanleg | G20: =G15-G11 -> -3713.75 | J20: 9 | K20: =-$G$12 -> -1664.13 | L20: =$G$16 -> 3050 | M20: =$G$17 -> 1384.321 | N20: =SUM(K20:L20)+N19 -> 8759.08 | O20: =SUM(K20:M20)+O19 -> 14296.364
A21: nanders | B21: anders (gve) | C21: 0 | D21: 1 | F21: bij jaarlijkse kosten | G21: =G16-G12 -> 1385.87 | H21: per jaar | J21: 10 | K21: =-$G$12 -> -1664.13 | L21: =$G$16 -> 3050 | M21: =$G$17 -> 1384.321 | N21: =SUM(K21:L21)+N20 -> 10144.95 | O21: =SUM(K21:M21)+O20 -> 17066.555
A22: gveha | B22: gve/ha | C22: =SUMPRODUCT(C14:C21,D14:D21)/SUM(C10:C12) -> 1.2327778 | F22: aantal jaar voor aanleg financieringsgat is terugverdiend | G22: =IF(G20>0,0,ABS(G20/G21)) -> 2.6797246 | H22: jaar
A23: afnemer | B23: afnemer melk | C23: eigen winkel | F23: incl indirecte opbrengsten & besparingen | G23: =IF(G22>5,5+ABS((G20+G21*5)/SUM(G21,G17)),G22) -> 2.6797246 | H23: jaar
A24: toestemming | B24: data toestemming getekend? | C24: ja
B27: Notities

Sheet Invoer | Kosten
B1: AANLEG | O1: Notities
A2: legenda | C2: aantal meter heg | D2: aantal bomen / 100 meter
A3: In te vullen | B3: dubbellaags | C3: 500 | D3: =F3 -> 400 | F3: =Uitgangspunten!E13 -> 400
A4: optioneel aan te passen (te herstellen met waardes in verstopte columnen) | B4: enkellaags | C4: 0 | D4: 200 | F4: =Uitgangspunten!F13 -> 300 | R4: \
B5: andere type heg | C5: 0 | D5: 300
B6: soorten samenstelling | C6: niet biologisch
A7: herstelwaarden in uitvouwbare kolommen | B7: vlechten? | C7: vlechten
B8: traief eigen arbeid | C8: 30 | D8: €/uur | F8: 30
A9: wit = niet aanpasbaar | B9: voorbereiding | C9: keuze | H9: kosten per stuk | J9: aantal stuks | M9: kosten
B10: ecologische quikscan | C10: ja | H10: =I10 -> 800 | I10: =IF($C$10="ja",Uitgangspunten!D5,0) -> 800 | J10: =K10 -> 1 | K10: =IF($C10="ja",Uitgangspunten!E5,0) -> 1 | M10: =J10*H10 -> 800
B11: leges en/of vergunning(en) | C11: ja | H11: =I11 -> 450 | I11: =IF($C$11="ja",Uitgangspunten!D6,0) -> 450 | J11: =K11 -> 1 | K11: =IF($C11="ja",Uitgangspunten!E6,0) -> 1 | M11: =J11*H11 -> 450
B12: uren voor vergunning aanvraag | C12: ja | H12: =I12 -> 30 | I12: =Uitgangspunten!D33 -> 30 | J12: =K12 -> 12 | K12: =Uitgangspunten!E7 -> 12 | M12: =J12*H12 -> 360
B13: basiskosten voorbereiding (advies) | C13: ja | H13: =I13 -> 1500 | I13: =IF($C$13="ja",Uitgangspunten!D3,0) -> 1500 | J13: =K13 -> 1 | K13: =IF(C13="ja",Uitgangspunten!E3,0) -> 1 | M13: =J13*H13 -> 1500
B14: basiskosten voorbereiding (ontwerp, boer) | C14: ja | H14: =I14 -> 30 | I14: =C8 -> 30 | J14: =K14 -> 4 | K14: =IF(C14="ja",Uitgangspunten!E4,0) -> 4 | M14: =J14*H14 -> 120
B15: aanplant logistiek/voorbereiding | C15: boer | H15: =I15 -> 30 | I15: =VLOOKUP(C15,Uitgangspunten!$A$33:$D$38,COLUMN(Uitgangspunten!$D$32),FALSE) -> 30 | J15: =K15 -> 6 | K15: =Uitgangspunten!E8 -> 6 | M15: =J15*H15 -> 180
B16: inkoop van materialen | C16: boer | H16: =I16 -> 30 | I16: =VLOOKUP(C16,Uitgangspunten!$A$33:$D$38,COLUMN(Uitgangspunten!$D$32),FALSE) -> 30 | J16: =K16 -> 8 | K16: =Uitgangspunten!E9 -> 8 | M16: =J16*H16 -> 240
B18: aanleg - materialen | C18: keuze | H18: kosten per éénheid | J18: aantal
B19: basiskosten aanleg (bomen & struiken) | C19: - | G19: stuks | H19: =I19 -> 1.5 | I19: =IF(C6="biologisch",Uitgangspunten!D13,Uitgangspunten!D14) -> 1.5 | J19: =K19 -> 2000 | K19: {=SUMPRODUCT(C3:C5/100,D3:D5)} -> 2000 | M19: =J19*H19 -> 3000
B20: biologisch afbreekbaar plantkokers? | C20: nee | G20: stuks | H20: =I20 -> 0 | I20: =IF(C20="ja",Uitgangspunten!D17,0) -> 0 | J20: =K20 -> 0 | K20: =IF(C20="ja",J19* Uitgangspunten!G17/10,0) -> 0 | M20: =J20*H20 -> 0
B21: basiskosten aanleg (palen) | C21: - | G21: stuks | H21: =I21 -> 3.2 | I21: =Uitgangspunten!D16 -> 3.2 | J21: =K21 -> 200 | K21: =J19*Uitgangspunten!G16/10 -> 200 | M21: =J21*H21 -> 640
B22: basiskosten aanleg (schrikdraad) | C22: - | G22: meter | H22: =I22 -> 0.1 | I22: =Uitgangspunten!D15 -> 0.1 | J22: =K22 -> 3000 | K22: =J19*Uitgangspunten!G15/10 -> 3000 | M22: =J22*H22 -> 300
B23: schrikdraadaparaat incl. accu? | C23: ja | G23: stuks | H23: =I23 -> 255 | I23: =IF(C23="ja",Uitgangspunten!D18,0) -> 255 | J23: =K23 -> 3 | K23: =IF(C23="ja", ROUNDUP(SUM($C$3:$C$5)/100*Uitgangspunten!E18,0),0) -> 3 | M23: =J23*H23 -> 765
B24: klaver- of kruidenmengsel? | C24: ja | G24: kilo | H24: =I24 -> 30 | I24: =IF(C24="ja",Uitgangspunten!D19,0) -> 30 | J24: =K24 -> 4.5 | K24: =IF(C24="ja", SUM($D$3:$D$5)/100*Uitgangspunten!E19,0) -> 4.5 | M24: =J24*H24 -> 135
B25: onkruidbestrijding? (zelf invullen) | M25: =J25*H25 -> 0
B26: overige aanlegkosten (zelf invullen) | M26: =J26*H26 -> 0
B28: aanleg - uitvoering
B29: voor- en nawerk | C29: ja/nee | D29: type betaalde kracht | H29: kosten per uur | J29: aantal uren | M29: kosten
B30: onkruidbestrijding toepassen | C30: ja | D30: boer | H30: =I30 -> 30 | I30: =VLOOKUP(D30,Uitgangspunten!$A$33:$D$38,COLUMN(Uitgangspunten!$D$32),FALSE) -> 30 | J30: =K30 -> 5 | K30: =IF($C30="ja",Uitgangspunten!C24*$C$3/100+Uitgangspunten!D24*$C$4/100+AVERAGE(Uitgangspunten!C24:D24)*$C$5/100,0) -> 5 | M30: =H30*J30 -> 150
B31: frezen | C31: ja | D31: loonwerker | H31: =I31 -> 70 | I31: =VLOOKUP(D31,Uitgangspunten!$A$33:$D$38,COLUMN(Uitgangspunten!$D$32),FALSE) -> 70 | J31: =K31 -> 20 | K31: =IF($C31="ja",Uitgangspunten!C25*$C$3/100+Uitgangspunten!D25*$C$4/100+AVERAGE(Uitgangspunten!C25:D25)*$C$5/100,0) -> 20 | M31: =H31*J31 -> 1400
B32: afrasteren | C32: ja | D32: boer | H32: =I32 -> 30 | I32: =VLOOKUP(D32,Uitgangspunten!$A$33:$D$38,COLUMN(Uitgangspunten!$D$32),FALSE) -> 30 | J32: =K32 -> 20 | K32: =IF($C32="ja",Uitgangspunten!C26*$C$3/100+Uitgangspunten!D26*$C$4/100+AVERAGE(Uitgangspunten!C26:D26)*$C$5/100,0) -> 20 | M32: =H32*J32 -> 600
B33: overige aanleg arbeid | M33: =H33*J33 -> 0
B34: plantdag | C34: keuze | D34: =IF(OR(C35=Uitgangspunten!K27,C35=Uitgangspunten!K28),"bron vrijwilligers","type arbeider") -> type arbeider | H34: kosten per éénheid | J34: aantal | M34: kosten
B35: type plantdag (incl begeleiding) | C35: plantdag (10-15 vrijwilligers) | D35: grondverbond | G35: per dag | H35: =I35 -> 480 | I35: =IF(ISNUMBER(SEARCH(VLOOKUP(D35,Uitgangspunten!A33:K38,COLUMN(Uitgangspunten!K32),FALSE),C35,1)),(VLOOKUP(D35,Uitgangspunten!A33:J38,COLUMN(Uitgangspunten!G32),FALSE)+VLOOKUP(D35,Uitgangspunten!A33:J38,COLUMN(Uitgangspunten!E32),FALSE)+(VLOOKUP(C35,Uitgangspunten!A27:J29,COLUMN(Uitgangspunten!I22),FALSE)*VLOOKUP(D35,Uitgangspunten!A33:J38,COLUMN(Uitgangspunten!J32),FALSE)))*VLOOKUP(D35,Uitgangspunten!A33:J38,COLUMN(Uitgangspunten!D32),FALSE),"kies bron") -> 480 | J35: =K35 -> 5 | K35: =ROUNDUP(((D3*C3/100)/VLOOKUP(C35,Uitgangspunten!$A$27:$G$29,COLUMN(Uitgangspunten!$G$23),FALSE)+(D4*C4/100)/VLOOKUP(C35,Uitgangspunten!A27:G29,COLUMN(Uitgangspunten!$G$23),FALSE)+(D5*C5/100)/VLOOKUP(C35,Uitgangspunten!A27:G29,COLUMN(Uitgangspunten!G23),FALSE)),0) -> 5 | M35: =H35*J35 -> 2400
G36: vaste kosten | H36: =I36 -> 240 | I36: =VLOOKUP(D35,Uitgangspunten!$A$33:$I$38,COLUMN(Uitgangspunten!F32),FALSE)*VLOOKUP(D35,Uitgangspunten!$A$33:$I$38,COLUMN(Uitgangspunten!$D$32),FALSE) -> 240 | J36: 1 | K36: 1 | M36: =H36*J36 -> 240
B37: verzorging arbeid | C37: catering lunch | D37: - | G37: persoon-dagen | H37: =I37 -> 15 | I37: =VLOOKUP(C37,Uitgangspunten!A41:D42,COLUMN(Uitgangspunten!$D$40),FALSE) -> 15 | J37: =K37 -> 75 | K37: =IF(H37>0,VLOOKUP(C35,Uitgangspunten!A27:H28,COLUMN(Uitgangspunten!$H$23),FALSE)*K35,0) -> 75 | M37: =J37*H37 -> 1125
C39: meetellen? | D39: verwachte uitval | H39: kosten na 1e jaar | M39: kosten
B40: uitval boompjes, eerste jaar | C40: ja | D40: 0.15 | H40: =D40*M19 -> 450 | I40: =D40*K19 -> 300 | M40: =H40 -> 450
B43: totale verwachte kosten aanleg | M43: =SUM(M9:M40) -> 14855
B44: kosten per 100 meter, aanleg | M44: =M43/SUM(C3:C5)*100 -> 2971
B46: BEHEER
...

Sheet Invoer | Baten
B1: eenmalige vergoeding voor aanleggen | M1: Notities
A2: legenda | B2: vergoeding | C2: type vergoeding | D2: bedrag | K2: totale vergoeding | L2: vergoeding per 100 m
A3: In te vullen | B3: vergoeding per boom | C3: vast bedrag per boom | D3: 0 | E3: =IF(C3=Uitgangspunten!M4,"€ per boom","% aankoopkosten bomen") -> € per boom | K3: =IF(C3=Uitgangspunten!M4,D3*'Invoer | Kosten'!J19,D3*'Invoer | Kosten'!J19/100) -> 0 | L3: =K3/SUM('Invoer | Kosten'!$C$3:$C$5)*100 -> 0
A4: optioneel aan te passen (te herstellen met waardes in verstopte columnen) | B4: andere eenmalige vergoeding/subsidie (zelf invullen) | C4: provincie utrecht | D4: 11141.25 | K4: =D4 -> 11141.25 | L4: =K4/SUM('Invoer | Kosten'!$C$3:$C$5)*100 -> 2228.25
B5: totale eenmalige vergoeding | K5: =SUM(K3:K4) -> 11141.25 | L5: =K5/SUM('Invoer | Kosten'!$C$3:$C$5)*100 -> 2228.25
B6: totale eenmalige kosten | K6: ='Invoer | Kosten'!M43 -> 14855 | L6: =K6/SUM('Invoer | Kosten'!$C$3:$C$5)*100 -> 2971
A7: herstelwaarden in uitvouwbare kolommen | B7: tekort/surplus aanlegkosten | K7: =K5-K6 -> -3713.75 | L7: =K7/SUM('Invoer | Kosten'!$C$3:$C$5)*100 -> -742.75
A9: wit = niet aanpasbaar | B9: jaarlijkse directe opbrengsten/baten
B10: pakket | C10: meetellen? | D10: keuze | G10: jaarlijkse vergoeding/100m | K10: totaal per jaar
B11: anlb of snl pakketten | C11: ja | D11: knip- en scheerheg anlb 2024 variant l22a | G11: =H11 -> 430 | H11: =VLOOKUP($D$11,Uitgangspunten!$A$62:$H$66,COLUMN(Uitgangspunten!$H$61),FALSE) -> 430 | K11: =IF(C11="ja", G11*SUM('Invoer | Kosten'!C3:C5)/100,0) -> 2150 | L11: =K11/SUM('Invoer | Kosten'!$C$3:$C$5)*100 -> 430
B12: andere pakketten & subsidies (zelf invullen) | K12: =IF(C12="ja", G12*SUM('Invoer | Kosten'!#REF!)/100,0) -> 0 | L12: =K12/SUM('Invoer | Kosten'!$C$3:$C$5)*100 -> 0
B13: totaal uit pakketten & subsidies | G13: =SUMIF($C11:$C12,"ja",G11:G12) -> 430 | K13: =SUMIF($C11:$C12,"ja",K11:K12) -> 2150 | L13: =K13/SUM('Invoer | Kosten'!$C$3:$C$5)*100 -> 430
B15: vergoedingen vanuit leverancier | C15: meetellen | E15: jaarlijks melk afgeleverd (l) | G15: meerprijs (€ / l)
B16: meerprijs melk (zelf invullen) | C16: ja | E16: 900000 | G16: 0.001 | K16: =E16*G16 -> 900 | L16: =K16/SUM('Invoer | Kosten'!$C$3:$C$5)*100 -> 180
B18: betalingen uit private bronen | C18: zelf invullen | E18: meetellen? | G18: jaarlijkse vergoeding/100m | K18: totaal per jaar
B19: privaate bron 1 | E19: ja | K19: =IF(E19="ja", G19*SUM('Invoer | Kosten'!C3:C5)/100,0) -> 0 | L19: =K19/SUM('Invoer | Kosten'!$C$3:$C$5)*100 -> 0
B20: privaate bron 2 | E20: nee | K20: =IF(E20="ja", G20*SUM('Invoer | Kosten'!C3:C5)/100,0) -> 0 | L20: =K20/SUM('Invoer | Kosten'!$C$3:$C$5)*100 -> 0
B21: privaate bron 3 | E21: ja | K21: =IF(E21="ja", G21*SUM('Invoer | Kosten'!C3:C5)/100,0) -> 0 | L21: =K21/SUM('Invoer | Kosten'!$C$3:$C$5)*100 -> 0
B22: totaal uit privaate bronen | G22: =SUMIF($E19:$E21,"ja",G19:G21) -> 0 | K22: =SUMIF($E19:$E21,"ja",K19:K21) -> 0 | L22: =K22/SUM('Invoer | Kosten'!$C$3:$C$5)*100 -> 0
B24: totale directe opbrengsten | K24: =K13+K22+K16 -> 3050 | L24: =K24/SUM('Invoer | Kosten'!$C$3:$C$5)*100 -> 610
B25: totale jaarlijkse kosten | K25: ='Invoer | Kosten'!M69 -> 1664.13 | L25: =K25/SUM('Invoer | Kosten'!$C$3:$C$5)*100 -> 332.826
B26: jaarlijks tekort/surplus | K26: =K24-K25 -> 1385.87 | L26: =K26/SUM('Invoer | Kosten'!$C$3:$C$5)*100 -> 277.174
B28: jaarlijkse indirecte opbrengsten/besparing vanaf 5 jaar na aanplant
B29: type kosten met mogelijke besparing | C29: meetellen? | D29: mate van op bedrijf | E29: jaarlijkse kosten/gve/jaar | G29: totale jaarlijkse kosten op bedrijf | I29: verwacht reducterend effect | K29: verwachte besparing | L29: verwachte besparing per 100 meter
B30: veeartskosten | C30: ja | D30: - | E30: =Uitgangspunten!H67 -> 150 | G30: =H30 -> 16642.5 | H30: =E30*Samenvatting!C22*SUM(Samenvatting!C10:C12) -> 16642.5 | I30: 0.05 | K30: =IF(C30="ja",G30*I30,0) -> 832.125 | L30: =K30/SUM('Invoer | Kosten'!$C$3:$C$5)*100 -> 166.425
B31: hittestress | C31: ja | D31: =Uitgangspunten!B69 -> gemiddeld | E31: =F31 -> 43.01 | F31: =VLOOKUP(D31,Uitgangspunten!B68:H70,COLUMN(Uitgangspunten!H61)-1,FALSE)/100 -> 43.01 | G31: =H31 -> 4771.9595 | H31: =E31*Samenvatting!C22*SUM(Samenvatting!C10:C12) -> 4771.9595 | I31: 0.1 | K31: =IF(C31="ja",G31*I31,0) -> 477.19595 | L31: =K31/SUM('Invoer | Kosten'!$C$3:$C$5)*100 -> 95.43919
B32: overige kosten rondom diergezondheid | D32: - | E32: 0 | G32: =H32 -> 0 | H32: =E32*Samenvatting!C22*SUM(Samenvatting!C10:C12) -> 0 | I32: 0.05 | K32: =IF(C32="ja",G32*I32,0) -> 0 | L32: =K32/SUM('Invoer | Kosten'!$C$3:$C$5)*100 -> 0
B33: verbetering grasproductie (droogte/wind/schaduw) | D33: - | E33: - | K33: =IF(C33="ja",G33*I33,0) -> 0 | L33: =K33/SUM('Invoer | Kosten'!$C$3:$C$5)*100 -> 0
B34: andere kosten met verwachte besparing (zelf invullen) | K34: =IF(C34="ja",G34*I34,0) -> 0 | L34: =K34/SUM('Invoer | Kosten'!$C$3:$C$5)*100 -> 0
B36: gemiddeld aanvullende voederwaarde | C36: meetellen? | E36: monitaire waarde van voer (€ / kg d.s.) | G36: verwachte jaarlijks opbrengst na 5 jaar (kg d.s. / 100 m)
B37: voederwaarde van haag | C37: ja | E37: 0.2 | G37: 75 | K37: =E37*G37*SUM('Invoer | Kosten'!$C$3:$C$5)/100 -> 75 | L37: =K37/SUM('Invoer | Kosten'!$C$3:$C$5)*100 -> 15
B39: totale besparing uit indirecte opbrengsten | K39: =SUM(K30:K37) -> 1384.321 | L39: =K39/SUM('Invoer | Kosten'!$C$3:$C$5)*100 -> 276.86419

Sheet Uitgangspunten
A1: kostentabel heg | J1: lijstjes
A2: voorbereiding (algemeen) | B2: optioneel/standaard | C2: eenheid | D2: prijs/eenheid | E2: aantal | F2: onderbouwing / uitleg | J2: ja/nee | K2: biologisch / niet biologisch | L2: vlechten | M2: type boom vergoeding
A3: advies | B3: optioneel | C3: € | D3: 1500 | E3: 1 | F3: Mogelijk vergoed via een project. Dit kan worden aangegeven in de opbrengsten, of als een nee aangeven | J3: ja | K3: biologisch | L3: niet vlechten | M3: % aankoopkosten bomen
A4: uren boer (ontwerp) | B4: optioneel | C4: uur | D4: ='Invoer | Kosten'!C8 -> 30 | E4: 4 | F4: inzet van de boer voor ontwerp, te kwantificeren, uurloon zelf te bepalen | J4: nee | K4: niet biologisch | L4: vlechten met voorstaanders | M4: vast bedrag per boom
A5: ecologische quickscan | B5: optioneel | C5: € | D5: 800 | E5: 1 | F5: Kan verschillen per locatie, dit bedragen is gangbaar voor een niet-complexe ecologische quickscan
A6: leges en/of vergunning(en) | B6: optioneel | C6: € | D6: 450 | E6: 1 | F6: Afhankelijk van de gemeente. Je kunt eerst een conceptverzoek aanvragen, maar brengt ook weer kosten met zich mee. Het beste is gelijk een vergunningsaanvraag, en daarin wel als stap 1 een gesprek aanvragen. Aanpassingen heen en weer zijn in dit proces vaak wel mogelijk voor de definitieve aanvraag.
A7: vergunning regelen | B7: optoineel | C7: uur | D7: ='Invoer | Kosten'!C8 -> 30 | E7: 12 | F7: tijd nodig om vergunning aan te vragen
A8: aanplant logistiek/voorbereiding | B8: standaard | C8: uur | D8: zie arbeiderstabel | E8: 6 | F8: inzet voor aanplan logistiek en voorbereiding, boer zelf of uitbesteden
A9: inkoop van materialen | B9: standaard | C9: uur | D9: zie arbeiderstabel | E9: 8 | F9: inzet voor aanplan logistiek en voorbereiding, boer zelf of uitbesteden
A11: aanleg materialen | B11: optioneel/standaard | C11: eenheid | D11: prijs/eenheid | E11: aantal / 100 meter | G11: aantal / 10 bomen | H11: onderbouwing / uitleg
E12: dubbellaags | F12: enkellaags
A13: plantgoed bio/autochtoon | B13: optie a | C13: stuk | D13: 2.4 | E13: 400 | F13: 300 | H13: variant voederhaag 4 planten per meter. hoogte 100-125 cm | J13: www.koperwiek.com
A14: plantgoed niet-bio/autochtoon | B14: optie b | C14: stuk | D14: 1.5 | E14: 400 | F14: 300 | H14: aantal planten per 100 meter is afhankelijk van gekozen variant, hier nu gekozen voor variant voederhaag | J14: heg & landschap
A15: schrikdraad | B15: standaard | C15: m | D15: 0.1 | E15: 600 | F15: 600 | G15: =ROUNDUP(E15/$E$13*10,0) -> 15 | H15: 3 x schrikdraad per 100 meter x 2(op 3 hoogtes) | J15: www.welkoop.nl
A16: palen (afrastering) | B16: standaard | C16: stuk | D16: 3.2 | E16: 40 | F16: 20 | G16: =ROUNDUP(E16/$E$13*10,0) -> 1 | H16: 1 paal per 5 meter, aan beide zijden
A17: plantkoker biologisch afbreekbaar | B17: optioneel | C17: stuk | D17: 6.5 | E17: 400 | F17: 300 | G17: =ROUNDUP(E17/$E$13*10,0) -> 10 | H17: optioneel | J17: https://www.wolfswinkel.nl/groeikokers-biologisch-afbreekbaar/73348/bio-groeibeschermingsnet-125cm-10cmo
A18: schrikdraadapparaat incl. accu | B18: optioneel | C18: stuk | D18: 255 | E18: 0.5 | F18: 0.5 | G18: - | H18: vaak heeft de boer dit al wel liggen, dus is optioneel | J18: https://www.gallagher.eu/nl_nl/s20li-zonnepaneel-schrikdraadapparaat-incl.-accu-0-2j-solar/350318
A19: klavermengsel | B19: optioneel | C19: kilo | D19: 30 | E19: 0.5 | F19: 0.5 | G19: - | H19: afhankelijk van mengsel, bijvoorbeeld witte cultuurklaver | J19: https://neutkens-webshop.nl/product/witte-cultuurklaver-bio/
A20: of wol of andere wijze van onkruidbestrijding | B20: optioneel | C20: kilo | H20: zelf invullen
A22: arbeidstaken aanplant | C22: uren / 100 meter | E22: meter / dag (5.5 effectieve uren) | G22: bomen / dag (5.5 effectieve uren) | I22: extra begeleiders? 0 = nee
B23: optioneel/standaard | C23: dubbellaags | D23: enkellaags | E23: dubbellaags | F23: enkellaags | H23: aantal mensen | J23: betaald per | K23: onderbouwing / uitleg
A24: vooraf onkruidbestrijding toepassen | B24: optioneel | C24: 1 | D24: 1 | E24: - | F24: - | G24: - | H24: - | I24: - | J24: uur | K24: schaalafhankelijk, doet loonwerker of boer
A25: voorbewerken/frezen | B25: optioneel | C25: 4 | D25: 4 | E25: - | F25: - | G25: - | H25: - | I25: - | J25: uur | K25: schaalafhankelijk, doet loonwerker of boer
A26: afrasteren | B26: optioneel | C26: 4 | D26: 4 | E26: - | F26: - | G26: - | H26: - | I26: - | J26: uur | K26: schaalafhankelijk, doet loonwerker of boer
A27: plantdag (30+ vrijwilligers) | B27: optie a | C27: =ROUNDUP(100/(E27/5.5),0) -> 3 | D27: =ROUNDUP(100/(F27/5.5),0) -> 3 | E27: =ROUND(E28*1.8,-1) -> 220 | F27: =ROUND(F28*1.8,-1) -> 270 | G27: =E27*$E$13/100 -> 880 | H27: 30 | I27: 1 | J27: dag | K27: assumptie dat 30 mensen niet even efficient zijn als 15 mensen, 5.5 effectieve werkuren
A28: plantdag (10-15 vrijwilligers) | B28: optie b | C28: =ROUNDUP(100/(E28/5.5),0) -> 5 | D28: =ROUNDUP(100/(F28/5.5),0) -> 4 | E28: =ROUNDUP(G28/E13,1)*100 -> 120 | F28: =ROUNDUP(G28/F13,1)*100 -> 150 | G28: =550/5.5*4.5 -> 450 | H28: 15 | I28: 0 | J28: dag | K28: 100 bomen per uur, 4.5 uren per dag + 1 uur voorbereiding/uitloop
A29: planten (betaalde arbeid, machinaal) | B29: optie c | C29: 3 | D29: 2 | E29: =E33/C29*100 -> 250 | F29: =E33/D29*100 -> 375 | G29: =E29*$E$13/100 -> 1000 | H29: 1 | I29: 0 | J29: uur | K29: assumptie dat machines worden ingezet voor iig de eerste rij bomen. niet geschikt voor alle gevallen. voorbeeld machine: https://www.damcon.nl/machine/plantmachine-pl-10/
F31: voorbereiding plantdagen | H31: voorbereiding onderhoudsdagen
A32: arbeiders | C32: eenheid | D32: prijs/eenheid | E32: effectieve uren per dag | F32: per set van plantdagen | G32: per plantdag | H32: per set van onderhoudsdagen | I32: per onderhoudsdag | J32: uren per dag extra begeleiding | K32: type | L32: opmerking | M32: onderbouwing/uitleg
A33: boer | B33: optie a | C33: uur | D33: ='Invoer | Kosten'!C8 -> 30 | E33: 7.5 | F33: 0 | G33: 0.5 | H33: 0 | I33: 0 | J33: 0 | K33: betaalde arbeid
A34: loonwerker | B34: optie b | C34: uur | D34: 70 | E34: 7.5 | F34: 0 | G34: 0.5 | H34: 0 | I34: 0 | J34: 0 | K34: betaalde arbeid
A35: advieseur | B35: optie c | C35: uur | D35: 100 | E35: 7.5 | F35: 0 | G35: 0.5 | H35: 0 | I35: 0 | J35: 0 | K35: betaalde arbeid
A36: grondverbond | B36: optie a | C36: uur | D36: 30 | E36: 5.5 | F36: =4+4 -> 8 | G36: =4+4+2.5 -> 10.5 | H36: =2+2 -> 4 | I36: =2+4+2.5 -> 8.5 | J36: 8 | K36: vrijwilligers | L36: incl voorbereiding
A37: hoopheggen | B37: optie b | C37: dag | D37: =1500/SUM(E37) -> 375 | E37: 4 | F37: 0 | G37: 0 | H37: 0 | I37: 0 | J37: 0 | K37: vrijwilligers | L37: incl begeleiding plantdag | M37: tarief hoopheggen voor 1 plantdag alles inclusief (werving, begeleiding, dag zelf)
A38: anders (zelf invullen) | B38: optie c | C38: dag | D38: zelf invullen | E38: 6 | F38: 0 | G38: 0 | H38: 0 | I38: 0 | J38: 0 | K38: vrijwilligers | L38: incl begeleiding plantdag
A40: verzorging vrijwilligers | B40: optioneel/standaard | C40: eenheid | D40: prijs/eenheid | E40: onderbouwing/uitleg
A41: catering lunch | B41: optie a | C41: aantal | D41: 15 | E41: markt conform
A42: geen verzorging arbeid | B42: optie b | C42: aantal | D42: 0
A44: jaarlijkse vervolg en beheer (/100m / jaar) dubbellaags & enkellaags | B44: optioneel/standaard | C44: eenheid | D44: grasland opbrengst k d.s. per 100 meter2 | E44: euros / kg d.s. | F44: jaar 1 | G44: jaar 2 | H44: jaar 3 | I44: jaar 4 | J44: jaar 5 | K44: jaar 6 | L44: jaar 7 | M44: jaar 8 | N44: jaar 9 | O44: jaar 10
A45: verwachte groei heg (breedte) | C45: meter / 100 meter | F45: 1.5 | G45: 1.5 | H45: 1.5 | I45: 1.5 | J45: 2 | K45: 2 | L45: 2 | M45: 2 | N45: 2 | O45: 2.5
...
